BEGIN:VCALENDAR
VERSION:2.0
BEGIN:VEVENT
DTSTAMP:20201228T064500Z
UID:d51bebf0-f095-4579-8ef8-25a1cad411da
DTSTART:20201230T080000Z
DTEND:20201230T092000Z
SUMMARY:מנטורים ליצוא
DESCRIPTION:תוכנית המנטורים הינה תוכנית התנדבותית שבה מכון היצוא מחבר למנכ"ל/ית החברה ליווי אישי של מנטור ליצוא.
LOCATION:וירטואלי
END:VEVENT
END:VCALENDAR
