BEGIN:VCALENDAR
VERSION:2.0
BEGIN:VEVENT
DTSTAMP:20201228T064500Z
UID:8efb8bab-3272-434e-b77a-d5f4b78ade15
DTSTART:20201209T220000Z
DTEND:20201229T220000Z
SUMMARY:מנטורים ליצוא
DESCRIPTION:תוכנית המנטורים הינה תוכנית התנדבותית שבה מכון היצוא מחבר למנכ"ל/ית החברה ליווי אישי של מנטור ליצוא.
LOCATION:וירטואלי
END:VEVENT
END:VCALENDAR
