BEGIN:VCALENDAR
VERSION:2.0
BEGIN:VEVENT
DTSTAMP:20201228T064500Z
UID:fc89fa60-c59a-45cb-842d-9ededda5e03a
DTSTART:20210208T150000Z
DTEND:20210208T180000Z
SUMMARY:קורס Online - יצוא יבוא וסחר בינלאומי טעימות על קצה המזלג
DESCRIPTION:קורס מקיף ויסודי, המועבר על ידי מרצים מומחים מן השורה הראשונה בתחומם. 

LOCATION:וירטואלי
END:VEVENT
END:VCALENDAR
