BEGIN:VCALENDAR
VERSION:2.0
BEGIN:VEVENT
DTSTAMP:20201228T064500Z
UID:af3a901c-31a5-4caa-8f65-6d90274ea8f2
DTSTART:20210201T150000Z
DTEND:20210201T180000Z
SUMMARY:קורס Online - יצוא יבוא וסחר בינלאומי טעימות על קצה המזלג
DESCRIPTION:קורס מקיף ויסודי, המועבר על ידי מרצים מומחים מן השורה הראשונה בתחומם. 

LOCATION:וירטואלי
END:VEVENT
END:VCALENDAR
