BEGIN:VCALENDAR
VERSION:2.0
BEGIN:VEVENT
DTSTAMP:20201228T064500Z
UID:6689d34c-e462-4da5-9be5-1b5852fe5b43
DTSTART:20210125T150000Z
DTEND:20210125T180000Z
SUMMARY:קורס Online - יצוא יבוא וסחר בינלאומי טעימות על קצה המזלג
DESCRIPTION:קורס מקיף ויסודי, המועבר על ידי מרצים מומחים מן השורה הראשונה בתחומם. 

LOCATION:וירטואלי
END:VEVENT
END:VCALENDAR
