BEGIN:VCALENDAR
VERSION:2.0
BEGIN:VEVENT
DTSTAMP:20201228T064400Z
UID:a0ecad85-a78c-42c2-8858-637edcc0b2e3
DTSTART:20210111T150000Z
DTEND:20210111T180000Z
SUMMARY:קורס Online - יצוא יבוא וסחר בינלאומי טעימות על קצה המזלג
DESCRIPTION:קורס מקיף ויסודי, המועבר על ידי מרצים מומחים מן השורה הראשונה בתחומם. 

LOCATION:וירטואלי
END:VEVENT
END:VCALENDAR
