BEGIN:VCALENDAR
VERSION:2.0
BEGIN:VEVENT
DTSTAMP:20201228T064400Z
UID:a4becc47-1853-4bbc-971b-3fbcedd7fe9c
DTSTART:20210104T150000Z
DTEND:20210104T180000Z
SUMMARY:קורס Online - יצוא יבוא וסחר בינלאומי טעימות על קצה המזלג
DESCRIPTION:קורס מקיף ויסודי, המועבר על ידי מרצים מומחים מן השורה הראשונה בתחומם. 

LOCATION:וירטואלי
END:VEVENT
END:VCALENDAR
