BEGIN:VCALENDAR
VERSION:2.0
BEGIN:VEVENT
DTSTAMP:20201228T064300Z
UID:dcbd029c-f64d-491e-beea-8c3488220a76
DTSTART:20190217T220000Z
DTEND:20190217T220000Z
SUMMARY:Rethinking Food Conference - Israeli  Food-Tech goes global
DESCRIPTION:
LOCATION:תצפית גג העולם, עזריאלי קומה 49
END:VEVENT
END:VCALENDAR
