BEGIN:VCALENDAR
VERSION:2.0
BEGIN:VEVENT
DTSTAMP:20201228T054300Z
UID:027a4149-153c-4542-8ba2-4000aa376f20
DTSTART:20210113T220000Z
DTEND:20210113T220000Z
SUMMARY:תערוכת CES 2021
DESCRIPTION:For more than 50 years, CES has been the global stage for innovation

LOCATION:וירטואלי
END:VEVENT
END:VCALENDAR
