BEGIN:VCALENDAR
VERSION:2.0
BEGIN:VEVENT
DTSTAMP:20201228T054300Z
UID:b1a102ff-335c-40f8-8d83-be6e54b0c670
DTSTART:20210112T220000Z
DTEND:20210112T220000Z
SUMMARY:תערוכת CES 2021
DESCRIPTION:For more than 50 years, CES has been the global stage for innovation

LOCATION:וירטואלי
END:VEVENT
END:VCALENDAR
