BEGIN:VCALENDAR
VERSION:2.0
BEGIN:VEVENT
DTSTAMP:20201228T054300Z
UID:ca0c484d-332d-4dfa-bdb2-1fba23cdcf2f
DTSTART:20210111T220000Z
DTEND:20210111T220000Z
SUMMARY:תערוכת CES 2021
DESCRIPTION:For more than 50 years, CES has been the global stage for innovation

LOCATION:וירטואלי
END:VEVENT
END:VCALENDAR
