BEGIN:VCALENDAR
VERSION:2.0
BEGIN:VEVENT
DTSTAMP:20201228T054300Z
UID:62100a63-661d-40b1-80cc-73e86effbee8
DTSTART:20210110T220000Z
DTEND:20210113T220000Z
SUMMARY:תערוכת CES 2021
DESCRIPTION:For more than 50 years, CES has been the global stage for innovation

LOCATION:וירטואלי
END:VEVENT
END:VCALENDAR
