BEGIN:VCALENDAR
VERSION:2.0
BEGIN:VEVENT
DTSTAMP:20201228T054400Z
UID:b46386b6-de11-4eac-a0f9-e28d07e4bd55
DTSTART:20210121T220000Z
DTEND:20210121T220000Z
SUMMARY:תערוכת Automotive World
DESCRIPTION:מכון היצוא מזמין אותך להציג בביתן החברות הישראליות בתערוכת אוטומוטיב 2021, התערוכה החשובה באסיה בתחום טכנולוגיות הרכב.
LOCATION:טוקיו, יפן
END:VEVENT
END:VCALENDAR
