BEGIN:VCALENDAR
VERSION:2.0
BEGIN:VEVENT
DTSTAMP:20201228T054400Z
UID:c94399be-17ea-42f8-8666-93dd11b0f1bc
DTSTART:20210120T220000Z
DTEND:20210120T220000Z
SUMMARY:תערוכת Automotive World
DESCRIPTION:מכון היצוא מזמין אותך להציג בביתן החברות הישראליות בתערוכת אוטומוטיב 2021, התערוכה החשובה באסיה בתחום טכנולוגיות הרכב.
LOCATION:טוקיו, יפן
END:VEVENT
END:VCALENDAR
