BEGIN:VCALENDAR
VERSION:2.0
BEGIN:VEVENT
DTSTAMP:20201228T054400Z
UID:7649bfd1-730e-439e-9045-a257af443391
DTSTART:20210119T220000Z
DTEND:20210121T220000Z
SUMMARY:תערוכת Automotive World
DESCRIPTION:מכון היצוא מזמין אותך להציג בביתן החברות הישראליות בתערוכת אוטומוטיב 2021, התערוכה החשובה באסיה בתחום טכנולוגיות הרכב.
LOCATION:טוקיו, יפן
END:VEVENT
END:VCALENDAR
